Package: ITALICSData
Version: 2.47.0
Maintainer: Guillem Rigaill
MaintainerEmail: italics at curie.fr
git_url: https://git.bioconductor.org/packages/ITALICSData
git_branch: devel
git_last_commit: 72c2944
git_last_commit_date: 2025-04-15 09:16:08 -0400 (Tue, 15 Apr 2025)