Package: Hiiragi2013 Version: 1.45.3 Command: /home/biocbuild/bbs-3.22-bioc/R/bin/R CMD INSTALL Hiiragi2013 StartedAt: 2025-10-09 10:57:31 -0400 (Thu, 09 Oct 2025) EndedAt: 2025-10-09 10:57:50 -0400 (Thu, 09 Oct 2025) EllapsedTime: 19.1 seconds RetCode: 0 Status: OK