Package: HighlyReplicatedRNASeq Version: 1.23.0 Command: /home/biocbuild/bbs-3.23-bioc/R/bin/R CMD build --keep-empty-dirs --no-resave-data HighlyReplicatedRNASeq StartedAt: 2025-11-20 11:25:03 -0500 (Thu, 20 Nov 2025) EndedAt: 2025-11-20 11:26:00 -0500 (Thu, 20 Nov 2025) EllapsedTime: 57.5 seconds RetCode: 0 Status: OK PackageFile: HighlyReplicatedRNASeq_1.23.0.tar.gz PackageFileSize: 468.5 KiB