Package: HiContactsData Version: 1.13.0 Command: /home/biocbuild/bbs-3.23-bioc/R/bin/R CMD build --keep-empty-dirs --no-resave-data HiContactsData StartedAt: 2025-11-13 11:24:13 -0500 (Thu, 13 Nov 2025) EndedAt: 2025-11-13 11:24:34 -0500 (Thu, 13 Nov 2025) EllapsedTime: 20.7 seconds RetCode: 0 Status: OK PackageFile: HiContactsData_1.13.0.tar.gz PackageFileSize: 221.9 KiB