Package: GWASdata Version: 1.47.0 Command: /home/biocbuild/bbs-3.22-bioc/R/bin/R CMD INSTALL GWASdata StartedAt: 2025-10-21 10:57:52 -0400 (Tue, 21 Oct 2025) EndedAt: 2025-10-21 10:58:00 -0400 (Tue, 21 Oct 2025) EllapsedTime: 8.5 seconds RetCode: 0 Status: OK