Package: GSE13015 Version: 1.17.0 Command: /home/biocbuild/bbs-3.22-bioc/R/bin/R CMD INSTALL GSE13015 StartedAt: 2025-10-09 10:59:34 -0400 (Thu, 09 Oct 2025) EndedAt: 2025-10-09 10:59:52 -0400 (Thu, 09 Oct 2025) EllapsedTime: 17.4 seconds RetCode: 0 Status: OK