Package: GSBenchMark
Version: 1.29.0
Command: /home/biocbuild/bbs-3.22-bioc/R/bin/R CMD INSTALL GSBenchMark
StartedAt: 2025-05-15 10:55:43 -0400 (Thu, 15 May 2025)
EndedAt: 2025-05-15 10:55:45 -0400 (Thu, 15 May 2025)
EllapsedTime: 2.3 seconds
RetCode: 0
Status: OK