Package: FlowSorted.DLPFC.450k Version: 1.47.0 Command: /home/biocbuild/bbs-3.23-bioc/R/bin/R CMD build --keep-empty-dirs --no-resave-data FlowSorted.DLPFC.450k StartedAt: 2025-10-30 11:16:13 -0400 (Thu, 30 Oct 2025) EndedAt: 2025-10-30 11:17:31 -0400 (Thu, 30 Oct 2025) EllapsedTime: 78.0 seconds RetCode: 0 Status: OK PackageFile: FlowSorted.DLPFC.450k_1.47.0.tar.gz PackageFileSize: 123.7 MiB