Package: Fletcher2013a Version: 1.45.0 Command: /home/biocbuild/bbs-3.22-bioc/R/bin/R CMD build --keep-empty-dirs --no-resave-data Fletcher2013a StartedAt: 2025-10-09 11:17:03 -0400 (Thu, 09 Oct 2025) EndedAt: 2025-10-09 11:17:20 -0400 (Thu, 09 Oct 2025) EllapsedTime: 17.2 seconds RetCode: 0 Status: OK PackageFile: Fletcher2013a_1.45.0.tar.gz PackageFileSize: 73.39 MiB