##############################################################################
##############################################################################
###
### Running command:
###
###   /home/biocbuild/bbs-3.22-bioc/R/bin/R CMD build --keep-empty-dirs --no-resave-data Fletcher2013a
###
##############################################################################
##############################################################################


* checking for file ‘Fletcher2013a/DESCRIPTION’ ... OK
* preparing ‘Fletcher2013a’:
* checking DESCRIPTION meta-information ... OK
* installing the package to build vignettes
* creating vignettes ... OK
* checking for LF line-endings in source and make files and shell scripts
* checking for empty or unneeded directories
* looking to see if a ‘data/datalist’ file should be added
* building ‘Fletcher2013a_1.45.0.tar.gz’