Package: FieldEffectCrc Version: 1.21.0 Command: /home/biocbuild/bbs-3.23-bioc/R/bin/R CMD INSTALL FieldEffectCrc StartedAt: 2025-10-30 11:00:11 -0400 (Thu, 30 Oct 2025) EndedAt: 2025-10-30 11:00:40 -0400 (Thu, 30 Oct 2025) EllapsedTime: 29.1 seconds RetCode: 0 Status: OK