Package: FieldEffectCrc Version: 1.21.0 Command: /home/biocbuild/bbs-3.23-bioc/R/bin/R CMD build --keep-empty-dirs --no-resave-data FieldEffectCrc StartedAt: 2025-10-30 11:15:38 -0400 (Thu, 30 Oct 2025) EndedAt: 2025-10-30 11:18:44 -0400 (Thu, 30 Oct 2025) EllapsedTime: 185.8 seconds RetCode: 0 Status: OK PackageFile: FieldEffectCrc_1.21.0.tar.gz PackageFileSize: 239.5 KiB