Package: DuoClustering2018 Version: 1.29.0 Command: /home/biocbuild/bbs-3.23-bioc/R/bin/R CMD build --keep-empty-dirs --no-resave-data DuoClustering2018 StartedAt: 2025-10-30 11:14:04 -0400 (Thu, 30 Oct 2025) EndedAt: 2025-10-30 11:15:39 -0400 (Thu, 30 Oct 2025) EllapsedTime: 95.5 seconds RetCode: 0 Status: OK PackageFile: DuoClustering2018_1.29.0.tar.gz PackageFileSize: 2.197 MiB