Package: DropletTestFiles Version: 1.21.0 Command: /home/biocbuild/bbs-3.23-bioc/R/bin/R CMD INSTALL DropletTestFiles StartedAt: 2025-10-30 10:57:40 -0400 (Thu, 30 Oct 2025) EndedAt: 2025-10-30 10:57:53 -0400 (Thu, 30 Oct 2025) EllapsedTime: 12.8 seconds RetCode: 0 Status: OK