Package: DExMAdata Version: 1.17.0 Command: /home/biocbuild/bbs-3.22-bioc/R/bin/R CMD INSTALL DExMAdata StartedAt: 2025-10-09 10:56:09 -0400 (Thu, 09 Oct 2025) EndedAt: 2025-10-09 10:57:04 -0400 (Thu, 09 Oct 2025) EllapsedTime: 55.6 seconds RetCode: 0 Status: OK