Package: DExMAdata Version: 1.17.0 Command: /home/biocbuild/bbs-3.22-bioc/R/bin/R CMD build --keep-empty-dirs --no-resave-data DExMAdata StartedAt: 2025-10-09 11:14:18 -0400 (Thu, 09 Oct 2025) EndedAt: 2025-10-09 11:15:21 -0400 (Thu, 09 Oct 2025) EllapsedTime: 63.1 seconds RetCode: 0 Status: OK PackageFile: DExMAdata_1.17.0.tar.gz PackageFileSize: 7.389 MiB