Package: ConnectivityMap Version: 1.45.0 Command: /home/biocbuild/bbs-3.22-bioc/R/bin/R CMD INSTALL ConnectivityMap StartedAt: 2025-05-15 10:55:51 -0400 (Thu, 15 May 2025) EndedAt: 2025-05-15 10:55:53 -0400 (Thu, 15 May 2025) EllapsedTime: 2.1 seconds RetCode: 0 Status: OK