Package: ChimpHumanBrainData Version: 1.49.0 Maintainer: Sean Davis MaintainerEmail: seandavi at gmail.com git_url: https://git.bioconductor.org/packages/ChimpHumanBrainData git_branch: devel git_last_commit: b120673 git_last_commit_date: 2025-10-29 09:54:31 -0400 (Wed, 29 Oct 2025)