Package: ChIPexoQualExample Version: 1.35.0 Command: /home/biocbuild/bbs-3.23-bioc/R/bin/R CMD INSTALL ChIPexoQualExample StartedAt: 2025-10-30 10:55:37 -0400 (Thu, 30 Oct 2025) EndedAt: 2025-10-30 10:55:40 -0400 (Thu, 30 Oct 2025) EllapsedTime: 3.4 seconds RetCode: 0 Status: OK