Package: ChIPexoQualExample Version: 1.35.0 Command: /home/biocbuild/bbs-3.23-bioc/R/bin/R CMD build --keep-empty-dirs --no-resave-data ChIPexoQualExample StartedAt: 2025-10-30 11:09:19 -0400 (Thu, 30 Oct 2025) EndedAt: 2025-10-30 11:09:33 -0400 (Thu, 30 Oct 2025) EllapsedTime: 13.9 seconds RetCode: 0 Status: OK PackageFile: ChIPexoQualExample_1.35.0.tar.gz PackageFileSize: 152.3 MiB