Package: ChIPXpressData Version: 1.49.0 Command: /home/biocbuild/bbs-3.23-bioc/R/bin/R CMD build --keep-empty-dirs --no-resave-data ChIPXpressData StartedAt: 2025-11-06 11:10:05 -0500 (Thu, 06 Nov 2025) EndedAt: 2025-11-06 11:15:26 -0500 (Thu, 06 Nov 2025) EllapsedTime: 320.2 seconds RetCode: 0 Status: OK PackageFile: ChIPXpressData_1.49.0.tar.gz PackageFileSize: 3.171 GiB