Package: ChIPDBData Version: 0.99.7 Command: /home/biocbuild/bbs-3.22-bioc/R/bin/R CMD INSTALL ChIPDBData StartedAt: 2025-10-07 10:57:09 -0400 (Tue, 07 Oct 2025) EndedAt: 2025-10-07 10:57:10 -0400 (Tue, 07 Oct 2025) EllapsedTime: 1.3 seconds RetCode: 0 Status: OK