Package: ChIPDBData Version: 0.99.7 Command: /home/biocbuild/bbs-3.22-bioc/R/bin/R CMD build --keep-empty-dirs --no-resave-data ChIPDBData StartedAt: 2025-10-07 11:08:11 -0400 (Tue, 07 Oct 2025) EndedAt: 2025-10-07 11:08:59 -0400 (Tue, 07 Oct 2025) EllapsedTime: 48.2 seconds RetCode: 0 Status: OK PackageFile: ChIPDBData_0.99.7.tar.gz PackageFileSize: 224.9 KiB