Package: CardinalWorkflows Version: 1.43.0 Command: /home/biocbuild/bbs-3.23-bioc/R/bin/R CMD INSTALL CardinalWorkflows StartedAt: 2025-10-30 10:57:59 -0400 (Thu, 30 Oct 2025) EndedAt: 2025-10-30 10:58:12 -0400 (Thu, 30 Oct 2025) EllapsedTime: 12.5 seconds RetCode: 0 Status: OK