Package: CONFESSdata
Version: 1.37.0
Maintainer: Diana LOW
MaintainerEmail: dlow at imcb.a-star.edu.sg
git_url: https://git.bioconductor.org/packages/CONFESSdata
git_branch: devel
git_last_commit: c8f8c7e
git_last_commit_date: 2025-04-15 10:06:42 -0400 (Tue, 15 Apr 2025)