Package: COHCAPanno Version: 1.45.0 Command: /home/biocbuild/bbs-3.22-bioc/R/bin/R CMD INSTALL COHCAPanno StartedAt: 2025-10-14 10:55:43 -0400 (Tue, 14 Oct 2025) EndedAt: 2025-10-14 10:55:45 -0400 (Tue, 14 Oct 2025) EllapsedTime: 2.1 seconds RetCode: 0 Status: OK