Package: CLLmethylation Version: 1.31.0 Command: /home/biocbuild/bbs-3.23-bioc/R/bin/R CMD INSTALL CLLmethylation StartedAt: 2025-11-20 10:59:52 -0500 (Thu, 20 Nov 2025) EndedAt: 2025-11-20 11:00:10 -0500 (Thu, 20 Nov 2025) EllapsedTime: 17.8 seconds RetCode: 0 Status: OK