Package: CLL Version: 1.49.0 Command: /home/biocbuild/bbs-3.22-bioc/R/bin/R CMD build --keep-empty-dirs --no-resave-data CLL StartedAt: 2025-05-15 11:10:12 -0400 (Thu, 15 May 2025) EndedAt: 2025-05-15 11:10:16 -0400 (Thu, 15 May 2025) EllapsedTime: 4.0 seconds RetCode: 0 Status: OK PackageFile: CLL_1.49.0.tar.gz PackageFileSize: 15.89 <A href="http://en.wikipedia.org/wiki/MiB" target="_blank">MiB</A>