Package: BioImageDbs Version: 1.17.0 Command: /home/biocbuild/bbs-3.22-bioc/R/bin/R CMD INSTALL BioImageDbs StartedAt: 2025-05-15 10:57:36 -0400 (Thu, 15 May 2025) EndedAt: 2025-05-15 10:57:37 -0400 (Thu, 15 May 2025) EllapsedTime: 1.8 seconds RetCode: 0 Status: OK