Package: BioImageDbs Version: 1.19.0 Command: /home/biocbuild/bbs-3.23-bioc/R/bin/R CMD INSTALL BioImageDbs StartedAt: 2025-11-11 10:57:44 -0500 (Tue, 11 Nov 2025) EndedAt: 2025-11-11 10:57:46 -0500 (Tue, 11 Nov 2025) EllapsedTime: 1.5 seconds RetCode: 0 Status: OK