Package: BeadArrayUseCases Version: 1.49.0 Command: /home/biocbuild/bbs-3.23-bioc/R/bin/R CMD INSTALL BeadArrayUseCases StartedAt: 2025-10-30 10:59:32 -0400 (Thu, 30 Oct 2025) EndedAt: 2025-10-30 10:59:53 -0400 (Thu, 30 Oct 2025) EllapsedTime: 20.2 seconds RetCode: 0 Status: OK