Package: AffymetrixDataTestFiles Version: 0.49.0 Command: /home/biocbuild/bbs-3.23-bioc/R/bin/R CMD INSTALL AffymetrixDataTestFiles StartedAt: 2025-10-30 10:56:00 -0400 (Thu, 30 Oct 2025) EndedAt: 2025-10-30 10:56:05 -0400 (Thu, 30 Oct 2025) EllapsedTime: 4.8 seconds RetCode: 0 Status: OK