Package: Affyhgu133aExpr
Version: 1.47.0
Command: /home/biocbuild/bbs-3.22-bioc/R/bin/R CMD INSTALL Affyhgu133aExpr
StartedAt: 2025-05-15 10:55:42 -0400 (Thu, 15 May 2025)
EndedAt: 2025-05-15 10:55:44 -0400 (Thu, 15 May 2025)
EllapsedTime: 2.3 seconds
RetCode: 0
Status: OK