Package: Affyhgu133aExpr Version: 1.47.0 Command: /home/biocbuild/bbs-3.22-bioc/R/bin/R CMD build --keep-empty-dirs --no-resave-data Affyhgu133aExpr StartedAt: 2025-10-14 11:06:53 -0400 (Tue, 14 Oct 2025) EndedAt: 2025-10-14 11:07:15 -0400 (Tue, 14 Oct 2025) EllapsedTime: 21.6 seconds RetCode: 0 Status: OK PackageFile: Affyhgu133aExpr_1.47.0.tar.gz PackageFileSize: 316.1 MiB