##############################################################################
##############################################################################
###
### Running command:
###
###   /home/biocbuild/bbs-3.22-bioc/R/bin/R CMD build --keep-empty-dirs --no-resave-data Affyhgu133Plus2Expr
###
##############################################################################
##############################################################################


* checking for file ‘Affyhgu133Plus2Expr/DESCRIPTION’ ... OK
* preparing ‘Affyhgu133Plus2Expr’:
* checking DESCRIPTION meta-information ... OK
* checking for LF line-endings in source and make files and shell scripts
* checking for empty or unneeded directories
* looking to see if a ‘data/datalist’ file should be added
* building ‘Affyhgu133Plus2Expr_1.43.0.tar.gz’