Package: ASICSdata Version: 1.29.0 Command: /home/biocbuild/bbs-3.22-bioc/R/bin/R CMD check --install=check:ASICSdata.install-out.txt --library=/home/biocbuild/bbs-3.22-bioc/R/site-library --timings ASICSdata_1.29.0.tar.gz StartedAt: 2025-05-01 11:48:45 -0400 (Thu, 01 May 2025) EndedAt: 2025-05-01 11:49:05 -0400 (Thu, 01 May 2025) EllapsedTime: 20.1 seconds RetCode: 0 Status: OK CheckDir: ASICSdata.Rcheck Warnings: 0