Package: ASICSdata Version: 1.29.0 Command: /home/biocbuild/bbs-3.22-bioc/R/bin/R CMD build --keep-empty-dirs --no-resave-data ASICSdata StartedAt: 2025-05-01 11:07:59 -0400 (Thu, 01 May 2025) EndedAt: 2025-05-01 11:08:17 -0400 (Thu, 01 May 2025) EllapsedTime: 18.0 seconds RetCode: 0 Status: OK PackageFile: ASICSdata_1.29.0.tar.gz PackageFileSize: 22.05 MiB