Package: BiocMetaWorkflow Version: 1.30.0 Command: /Library/Frameworks/R.framework/Resources/bin/R CMD INSTALL BiocMetaWorkflow StartedAt: 2025-04-22 13:00:18 -0400 (Tue, 22 Apr 2025) EndedAt: 2025-04-22 13:00:22 -0400 (Tue, 22 Apr 2025) EllapsedTime: 4.0 seconds RetCode: 1 Status: ERROR