Package: geneLenDataBase
Version: 1.44.0
Maintainer: Federico Marini
MaintainerEmail: marinif at uni-mainz.de
git_url: https://git.bioconductor.org/packages/geneLenDataBase
git_branch: RELEASE_3_21
git_last_commit: ad5f383
git_last_commit_date: 2025-04-15 09:16:59 -0400 (Tue, 15 Apr 2025)