Package: cMap2data Version: 1.44.0 Maintainer: J. Saez-Rodriguez MaintainerEmail: saezrodriguez at ebi.ac.uk git_url: https://git.bioconductor.org/packages/cMap2data git_branch: RELEASE_3_21 git_last_commit: ab401ed git_last_commit_date: 2025-04-15 09:22:01 -0400 (Tue, 15 Apr 2025)