Package: SpikeInSubset
Version: 1.48.0
Command: /home/biocbuild/bbs-3.21-bioc/R/bin/R CMD INSTALL SpikeInSubset
StartedAt: 2025-05-27 10:56:17 -0400 (Tue, 27 May 2025)
EndedAt: 2025-05-27 10:56:21 -0400 (Tue, 27 May 2025)
EllapsedTime: 4.4 seconds
RetCode: 0
Status: OK