Package: RTCGA.mutations
Version: 20151101.38.0
Maintainer: Marcin Kosinski
MaintainerEmail: m.p.kosinski at gmail.com
git_url: https://git.bioconductor.org/packages/RTCGA.mutations
git_branch: RELEASE_3_21
git_last_commit: 1d21fef
git_last_commit_date: 2025-04-15 10:02:48 -0400 (Tue, 15 Apr 2025)