This page was generated on 2025-05-02 14:30 -0400 (Fri, 02 May 2025).
| |
See this page for all the Bioconductor builds and their schedule. |
Hostname | OS | Arch (*) | R version | Installed pkgs |
---|---|---|---|---|
nebbiolo1 | Linux (Ubuntu 24.04.1 LTS) | x86_64 | 4.5.0 RC (2025-04-04 r88126) -- "How About a Twenty-Six" | 4832 |
Click on any hostname to see more info about the system (e.g. compilers) (*) as reported by 'uname -p', except on Windows and Mac OS X |
A |
QUICK STATS | OS / Arch | INSTALL | BUILD | CHECK | ||||||||||||||
nebbiolo1 | Linux (Ubuntu 24.04.1 LTS) / x86_64 |
|
|
| ||||||||||||||
Package | Maintainer | INSTALL | BUILD | CHECK | ||||||||||||||
1/10 | BiocBookDemo 1.6.0 (landing page) | Jacques Serizay | OK | OK | OK | ![]() | ||||||||||||
2/10 | csawBook 1.16.0 (landing page) | Aaron Lun | OK | OK | OK | ![]() | ||||||||||||
3/10 | OHCA 1.4.0 (landing page) | Jacques Serizay | OK | OK | OK | ![]() | ||||||||||||
4/10 | OSCA 1.18.0 (landing page) | Alan O'Callaghan | OK | OK | OK | ![]() | ||||||||||||
5/10 | OSCA.advanced 1.16.0 (landing page) | Ludwig Geistlinger | OK | OK | OK | ![]() | ||||||||||||
6/10 | OSCA.basic 1.16.0 (landing page) | Peter Hickey | OK | OK | OK | ![]() | ||||||||||||
7/10 | OSCA.intro 1.16.0 (landing page) | Ludwig Geistlinger | OK | OK | OK | ![]() | ||||||||||||
8/10 | OSCA.multisample 1.16.0 (landing page) | Alan O'Callaghan | OK | OK | OK | ![]() | ||||||||||||
9/10 | OSCA.workflows 1.16.0 (landing page) | Peter Hickey | OK | OK | OK | ![]() | ||||||||||||
10/10 | SingleRBook 1.18.0 (landing page) | Aaron Lun | OK | OK | OK | ![]() |