RbowtieCuda#biocgpu#install: OK RbowtieCuda#biocgpu#buildsrc: OK RbowtieCuda#biocgpu#checksrc: OK RbowtieCuda#kakapo1#install: OK RbowtieCuda#kakapo1#buildsrc: OK RbowtieCuda#kakapo1#checksrc: OK