Package: tidyCoverage
Version: 1.4.1
Command: /home/biocbuild/bbs-3.21-bioc/R/bin/R CMD build --keep-empty-dirs --no-resave-data tidyCoverage
StartedAt: 2025-05-18 19:33:02 -0400 (Sun, 18 May 2025)
EndedAt: 2025-05-18 19:35:54 -0400 (Sun, 18 May 2025)
EllapsedTime: 172.2 seconds
RetCode: 0
Status: OK
PackageFile: tidyCoverage_1.4.1.tar.gz
PackageFileSize: 3.734 <A href="http://en.wikipedia.org/wiki/MiB" target="_blank">MiB</A>