Package: nipalsMCIA Version: 1.6.0 Command: /home/biocbuild/R/R/bin/R CMD INSTALL nipalsMCIA StartedAt: 2025-05-22 20:32:27 -0000 (Thu, 22 May 2025) EndedAt: 2025-05-22 20:33:05 -0000 (Thu, 22 May 2025) EllapsedTime: 37.4 seconds RetCode: 0 Status: OK