Package: geNetClassifier Version: 1.48.0 Command: /home/biocbuild/bbs-3.21-bioc/R/bin/R CMD INSTALL geNetClassifier StartedAt: 2025-04-30 15:58:00 -0400 (Wed, 30 Apr 2025) EndedAt: 2025-04-30 15:58:09 -0400 (Wed, 30 Apr 2025) EllapsedTime: 9.1 seconds RetCode: 0 Status: OK