Package: geNetClassifier Version: 1.48.0 Command: /home/biocbuild/bbs-3.21-bioc/R/bin/R CMD check --install=check:geNetClassifier.install-out.txt --library=/home/biocbuild/bbs-3.21-bioc/R/site-library --timings geNetClassifier_1.48.0.tar.gz StartedAt: 2025-04-30 22:42:53 -0400 (Wed, 30 Apr 2025) EndedAt: 2025-04-30 22:43:50 -0400 (Wed, 30 Apr 2025) EllapsedTime: 57.1 seconds RetCode: 0 Status: OK CheckDir: geNetClassifier.Rcheck Warnings: 0