Package: geNetClassifier Version: 1.48.0 Command: /home/biocbuild/bbs-3.21-bioc/R/bin/R CMD build --keep-empty-dirs --no-resave-data geNetClassifier StartedAt: 2025-04-30 17:22:29 -0400 (Wed, 30 Apr 2025) EndedAt: 2025-04-30 17:22:45 -0400 (Wed, 30 Apr 2025) EllapsedTime: 16.0 seconds RetCode: 0 Status: OK PackageFile: geNetClassifier_1.48.0.tar.gz PackageFileSize: 3.939 MiB