Package: arrayQualityMetrics Version: 3.64.0 Command: rm -rf arrayQualityMetrics.buildbin-libdir && mkdir arrayQualityMetrics.buildbin-libdir && /Users/biocbuild/BBS/utils/build-universal.sh arrayQualityMetrics_3.64.0.tar.gz /Library/Frameworks/R.framework/Resources/bin/R arrayQualityMetrics.buildbin-libdir StartedAt: 2025-04-22 00:33:34 -0400 (Tue, 22 Apr 2025) EndedAt: 2025-04-22 00:34:09 -0400 (Tue, 22 Apr 2025) EllapsedTime: 34.9 seconds RetCode: 0 Status: OK PackageFile: arrayQualityMetrics_3.64.0.tgz PackageFileSize: 557 <A href="http://en.wikipedia.org/wiki/KiB" target="_blank">KiB</A>